BEGIN:VCALENDAR
PRODID:-//AT Content Types//AT Event//EN
VERSION:2.0
METHOD:PUBLISH
BEGIN:VEVENT
DTSTAMP:20260421T073149Z
CREATED:20181218T074841Z
UID:ATEvent-9a8e698db20d4ba3a5a6b86d932a14af
LAST-MODIFIED:20181218T074844Z
SUMMARY:Comissió Legislativa d'Interior
DTSTART:20190107T083000Z
DTEND:20190107T083000Z
LOCATION:Nova seu Planta -3 sala AB
CLASS:PUBLIC
END:VEVENT
END:VCALENDAR
