BEGIN:VCALENDAR
PRODID:-//AT Content Types//AT Event//EN
VERSION:1.0
BEGIN:VEVENT
DTSTART:20181109T103000Z
DTEND:20181109T103000Z
DCREATED:20181105T152558Z
UID:ATEvent-2728477524f44335a6c0cd62fa50c9a3
SEQUENCE:0
LAST-MODIFIED:20181105T152601Z
SUMMARY:Comissió Legislativa d'Economia
LOCATION:Nova seu Planta -3 sala AB
PRIORITY:3
TRANSP:0
END:VEVENT
END:VCALENDAR
