BEGIN:VCALENDAR
PRODID:-//AT Content Types//AT Event//EN
VERSION:2.0
METHOD:PUBLISH
BEGIN:VEVENT
DTSTAMP:20260423T122201Z
CREATED:20181023T174022Z
UID:ATEvent-4036391d689a4ab0b6bf0f0265b10a57
LAST-MODIFIED:20181023T174025Z
SUMMARY:Comissió Legislativa d'Interior
DTSTART:20181029T090000Z
DTEND:20181029T090000Z
LOCATION:Nova seu Planta -3 sala AB
CLASS:PUBLIC
END:VEVENT
END:VCALENDAR
