BEGIN:VCALENDAR
PRODID:-//AT Content Types//AT Event//EN
VERSION:2.0
METHOD:PUBLISH
BEGIN:VEVENT
DTSTAMP:20260424T113955Z
CREATED:20180913T134557Z
UID:ATEvent-1b77b6b2627e49d29f56146ea3669d7b
LAST-MODIFIED:20180913T134602Z
SUMMARY:Comissió Legislativa d'Interior
DTSTART:20180921T073000Z
DTEND:20180921T073000Z
LOCATION:Nova seu Planta -3 sala AB
CLASS:PUBLIC
END:VEVENT
END:VCALENDAR
