BEGIN:VCALENDAR
PRODID:-//AT Content Types//AT Event//EN
VERSION:1.0
BEGIN:VEVENT
DTSTART:20180910T100000Z
DTEND:20180910T100000Z
DCREATED:20180719T124036Z
UID:ATEvent-07c6ab3cfebf426c86a8d1a378150bd0
SEQUENCE:0
LAST-MODIFIED:20180719T124039Z
SUMMARY:Comissió Legislativa d'Interior
LOCATION:Nova seu Planta -3 sala de compareixences
PRIORITY:3
TRANSP:0
END:VEVENT
END:VCALENDAR
