BEGIN:VCALENDAR
PRODID:-//AT Content Types//AT Event//EN
VERSION:2.0
METHOD:PUBLISH
BEGIN:VEVENT
DTSTAMP:20260422T192013Z
CREATED:20180702T064044Z
UID:ATEvent-678940cc5c67496281191e6172a6f308
LAST-MODIFIED:20180809T084137Z
SUMMARY:Roda de premsa
DTSTART:20180809T103000Z
DTEND:20180809T113000Z
LOCATION:Nova seu Planta 0 - sala de premsa
CLASS:PUBLIC
END:VEVENT
END:VCALENDAR
