BEGIN:VCALENDAR
PRODID:-//AT Content Types//AT Event//EN
VERSION:2.0
METHOD:PUBLISH
BEGIN:VEVENT
DTSTAMP:20260426T024328Z
CREATED:20180411T133112Z
UID:ATEvent-b698b0b938a844d1a88b725e795d1d0b
LAST-MODIFIED:20180411T133116Z
SUMMARY:Comissió Legislativa de Finances i Pressupost
DTSTART:20180417T133000Z
DTEND:20180417T133000Z
LOCATION:Nova seu Planta -3 sala AB
CLASS:PUBLIC
END:VEVENT
END:VCALENDAR
