BEGIN:VCALENDAR
PRODID:-//AT Content Types//AT Event//EN
VERSION:2.0
METHOD:PUBLISH
BEGIN:VEVENT
DTSTAMP:20260423T095159Z
CREATED:20180320T142156Z
UID:ATEvent-73422f3f785746968dd769f63ccc72d6
LAST-MODIFIED:20180320T142200Z
SUMMARY:Comissió Legislativa d'Interior
DTSTART:20180409T073000Z
DTEND:20180409T073000Z
LOCATION:Nova seu Planta -3 sala AB
CLASS:PUBLIC
END:VEVENT
END:VCALENDAR
