BEGIN:VCALENDAR
PRODID:-//AT Content Types//AT Event//EN
VERSION:2.0
METHOD:PUBLISH
BEGIN:VEVENT
DTSTAMP:20260423T095215Z
CREATED:20180307T105524Z
UID:ATEvent-9ee69d69957d4865a22973a5f43c6efc
LAST-MODIFIED:20180307T105527Z
SUMMARY:Comissió Legislativa de Finances i Pressupost
DTSTART:20180320T150000Z
DTEND:20180320T150000Z
LOCATION:Nova seu Planta -3 sala AB
CLASS:PUBLIC
END:VEVENT
END:VCALENDAR
