BEGIN:VCALENDAR
PRODID:-//AT Content Types//AT Event//EN
VERSION:1.0
BEGIN:VEVENT
DTSTART:20180306T150000Z
DTEND:20180306T150000Z
DCREATED:20180226T103141Z
UID:ATEvent-92aaffd0bcc146f9b4df9cccec4f48f2
SEQUENCE:0
LAST-MODIFIED:20180305T112517Z
SUMMARY:Comissió Legislativa de Finances i Pressupost
LOCATION:Nova seu Planta -3 sala AB
PRIORITY:3
TRANSP:0
END:VEVENT
END:VCALENDAR
