BEGIN:VCALENDAR
PRODID:-//AT Content Types//AT Event//EN
VERSION:1.0
BEGIN:VEVENT
DTSTART:20180228T110000Z
DTEND:20180228T110000Z
DCREATED:20180226T101636Z
UID:ATEvent-951ae7946536477c839ca4b349f30223
SEQUENCE:0
LAST-MODIFIED:20180226T101804Z
SUMMARY:Roda de premsa
LOCATION:Nova seu Planta 0 - sala de premsa
PRIORITY:3
TRANSP:0
END:VEVENT
END:VCALENDAR
