BEGIN:VCALENDAR
PRODID:-//AT Content Types//AT Event//EN
VERSION:1.0
BEGIN:VEVENT
DTSTART:20180221T153000Z
DTEND:20180221T153000Z
DCREATED:20180216T073803Z
UID:ATEvent-2ab616762cc848f7bfceb303abacdbb5
SEQUENCE:0
LAST-MODIFIED:20180216T073807Z
SUMMARY:Comissió Legislativa de Finances i Pressupost
LOCATION:Nova seu Planta -3 sala AB
PRIORITY:3
TRANSP:0
END:VEVENT
END:VCALENDAR
