BEGIN:VCALENDAR
PRODID:-//AT Content Types//AT Event//EN
VERSION:2.0
METHOD:PUBLISH
BEGIN:VEVENT
DTSTAMP:20260423T043115Z
CREATED:20180130T131559Z
UID:ATEvent-7171ead088bb4270bac8e1bd30ef4315
LAST-MODIFIED:20180130T131703Z
SUMMARY:Roda de premsa
DTSTART:20180201T103000Z
DTEND:20180201T103000Z
LOCATION:Nova seu Planta 0 - sala de premsa
CLASS:PUBLIC
END:VEVENT
END:VCALENDAR
