BEGIN:VCALENDAR
PRODID:-//AT Content Types//AT Event//EN
VERSION:2.0
METHOD:PUBLISH
BEGIN:VEVENT
DTSTAMP:20260423T132702Z
CREATED:20180123T131810Z
UID:ATEvent-ec8d14951169429091cc5c79a46d496b
LAST-MODIFIED:20180123T131821Z
SUMMARY:Comissió Legislativa de Finances i Pressupost
DTSTART:20180130T150000Z
DTEND:20180130T150000Z
LOCATION:Nova seu Planta -3 sala AB
CLASS:PUBLIC
END:VEVENT
END:VCALENDAR
