BEGIN:VCALENDAR
PRODID:-//AT Content Types//AT Event//EN
VERSION:2.0
METHOD:PUBLISH
BEGIN:VEVENT
DTSTAMP:20260420T075413Z
CREATED:20171124T130343Z
UID:ATEvent-f988647cfe21477ea22445042fadeb65
LAST-MODIFIED:20171124T130346Z
SUMMARY:Comissió Legislativa d'Interior
DTSTART:20171204T090000Z
DTEND:20171204T090000Z
LOCATION:Nova seu Planta -3 sala AB
CLASS:PUBLIC
END:VEVENT
END:VCALENDAR
