BEGIN:VCALENDAR
PRODID:-//AT Content Types//AT Event//EN
VERSION:2.0
METHOD:PUBLISH
BEGIN:VEVENT
DTSTAMP:20260423T002648Z
CREATED:20171109T100517Z
UID:ATEvent-6c149662b24b405cb364a2a7d199c7bb
LAST-MODIFIED:20171109T100541Z
SUMMARY:Comissió Legislativa de Finances i Pressupost
DTSTART:20171114T160000Z
DTEND:20171114T160000Z
LOCATION:Nova seu Planta -3 sala AB
CLASS:PUBLIC
END:VEVENT
END:VCALENDAR
