BEGIN:VCALENDAR
PRODID:-//AT Content Types//AT Event//EN
VERSION:2.0
METHOD:PUBLISH
BEGIN:VEVENT
DTSTAMP:20260423T005302Z
CREATED:20170920T080957Z
UID:ATEvent-60c2decbdc9141ac8cbd6be96401a41b
LAST-MODIFIED:20170920T081000Z
SUMMARY:Roda de premsa
DTSTART:20170921T100000Z
DTEND:20170921T100000Z
LOCATION:Nova seu Planta 0 - sala de premsa
CLASS:PUBLIC
END:VEVENT
END:VCALENDAR
