BEGIN:VCALENDAR
PRODID:-//AT Content Types//AT Event//EN
VERSION:2.0
METHOD:PUBLISH
BEGIN:VEVENT
DTSTAMP:20260423T144559Z
CREATED:20170704T151612Z
UID:ATEvent-1eadb7d470c1486eaacd21d0e2146efb
LAST-MODIFIED:20170704T151617Z
SUMMARY:Roda de premsa
DTSTART:20170712T103000Z
DTEND:20170712T103000Z
LOCATION:Nova seu Planta 0 - sala de premsa
CLASS:PUBLIC
END:VEVENT
END:VCALENDAR
