BEGIN:VCALENDAR
PRODID:-//AT Content Types//AT Event//EN
VERSION:2.0
METHOD:PUBLISH
BEGIN:VEVENT
DTSTAMP:20260422T083822Z
CREATED:20140407T074711Z
UID:ATEvent-adfd2e474ce24634a294e06e60994189
LAST-MODIFIED:20140407T074748Z
SUMMARY:Els síndics generals reben la visita d'uns parlamentaris de San Marino
DTSTART:20140411T093000Z
DTEND:20140411T103000Z
CLASS:PUBLIC
END:VEVENT
END:VCALENDAR
