BEGIN:VCALENDAR
PRODID:-//AT Content Types//AT Event//EN
VERSION:1.0
BEGIN:VEVENT
DTSTART:20140324T161500Z
DTEND:20140324T171500Z
DCREATED:20140324T083104Z
UID:ATEvent-e2d795e7979948b39215cf26e6791c77
SEQUENCE:0
LAST-MODIFIED:20140324T094814Z
SUMMARY:Els síndics generals reben l'associació de professors de les escoles congregacionals
PRIORITY:3
TRANSP:0
END:VEVENT
END:VCALENDAR
