BEGIN:VCALENDAR
PRODID:-//AT Content Types//AT Event//EN
VERSION:1.0
BEGIN:VEVENT
DTSTART:20140527T100000Z
DTEND:20140527T110000Z
DCREATED:20140527T092948Z
UID:ATEvent-f2080ff56baf46c5a1a2cb5ac2009311
SEQUENCE:0
LAST-MODIFIED:20140527T092953Z
SUMMARY:El síndic i la subsíndica generals assisteixen als actes de la festa de Santa Maria Auxiliadora\, patrona del Cos de Policia
PRIORITY:3
TRANSP:0
END:VEVENT
END:VCALENDAR
