BEGIN:VCALENDAR
PRODID:-//AT Content Types//AT Event//EN
VERSION:2.0
METHOD:PUBLISH
BEGIN:VEVENT
DTSTAMP:20260420T113142Z
CREATED:20140715T070449Z
UID:ATEvent-3040cde865a548aaba97fb1b36f3946b
LAST-MODIFIED:20140715T071403Z
SUMMARY:La subsíndica general assisteix al concert Jardins de Casa de la Vall
DTSTART:20140716T200000Z
DTEND:20140716T213000Z
DESCRIPTION:Concert Jardins de Casa de la Vall\nJOHANN BAPTIST GEORG N
 ERUDA (1708-1780)\nBENJAMIN BRITTEN (1913-1976)\nFRANÇOIS RAUBER (193
 3-2003)\nWOLFGANG AMADEUS MOZART (1756-1791)\nDimecres 16 de juliol\, 
 a les 22 h\nJardins de Casa de la Vall\nORQUESTRA NACIONAL\nCLÀSSICA 
 D'ANDORRA\nGerard Claret · concertino director\nMireia Farrés · tro
 mpeta
URL:http://www.onca.ad/ca/agenda/concert-jardins-de-casa-de-la-vall-amb-mireia-farres/
CLASS:PUBLIC
END:VEVENT
END:VCALENDAR
