BEGIN:VCALENDAR
PRODID:-//AT Content Types//AT Event//EN
VERSION:2.0
METHOD:PUBLISH
BEGIN:VEVENT
DTSTAMP:20260421T095858Z
CREATED:20140617T134310Z
UID:ATEvent-d65913f796a244b385b559a427fd16c8
LAST-MODIFIED:20140721T112441Z
SUMMARY:Delegacions internacionals
DTSTART:20140703T080000Z
DTEND:20140703T080000Z
LOCATION:Nova seu planta -3 sala A
CLASS:PUBLIC
END:VEVENT
END:VCALENDAR
