BEGIN:VCALENDAR
PRODID:-//AT Content Types//AT Event//EN
VERSION:1.0
BEGIN:VEVENT
DTSTART:20140314T163000Z
DTEND:20140314T163000Z
DCREATED:20140313T102302Z
UID:ATEvent-ab3641f575fd424487169960564ca2ce
SEQUENCE:0
LAST-MODIFIED:20140313T102434Z
SUMMARY:Delegacions internacionals
LOCATION:Nova seu planta -3 sala A
PRIORITY:3
TRANSP:0
END:VEVENT
END:VCALENDAR
