BEGIN:VCALENDAR
PRODID:-//AT Content Types//AT Event//EN
VERSION:1.0
BEGIN:VEVENT
DTSTART:20240614T073000Z
DTEND:20240614T120000Z
DCREATED:20240607T141933Z
UID:ATEvent-c9d510e317d949918327297b8efd5b3b
SEQUENCE:0
LAST-MODIFIED:20240607T141935Z
SUMMARY:Debat sobre l'Orientació Política del Govern (Jornada 3)
PRIORITY:3
TRANSP:0
END:VEVENT
END:VCALENDAR
