BEGIN:VCALENDAR
PRODID:-//AT Content Types//AT Event//EN
VERSION:1.0
BEGIN:VEVENT
DTSTART:20230509T073000Z
DTEND:20230509T132500Z
DCREATED:20230505T132409Z
UID:ATEvent-d85859354a794c96a8ded2bb2dc79d49
SEQUENCE:0
LAST-MODIFIED:20230505T132416Z
SUMMARY:Debat d'investidura del cap de Govern al Consell General d'Andorra
PRIORITY:3
TRANSP:0
END:VEVENT
END:VCALENDAR
