BEGIN:VCALENDAR
PRODID:-//AT Content Types//AT Event//EN
VERSION:2.0
METHOD:PUBLISH
BEGIN:VEVENT
DTSTAMP:20260423T125816Z
CREATED:20150109T112143Z
UID:ATEvent-cd64f926f8fa42f1a23f11c4683131d6
LAST-MODIFIED:20150109T135243Z
SUMMARY:Concert ONCA\, vestíbul del Consell General
DTSTART:20150117T110000Z
DTEND:20150117T110000Z
DESCRIPTION:El Consell General\, el Govern d'Andorra i la Fundació Cr
 èdit Andorrà es complauen a convidar-vos al concert El classicisme s
 imfònic\, que tindrà lloc el dissabte 17 de gener\, a les 12 h\, al 
 vestíbul del Consell General
LOCATION:Vestíbul del Consell General
CLASS:PUBLIC
END:VEVENT
END:VCALENDAR
