BEGIN:VCALENDAR
PRODID:-//AT Content Types//AT Event//EN
VERSION:2.0
METHOD:PUBLISH
BEGIN:VEVENT
DTSTAMP:20260423T122243Z
CREATED:20140115T125216Z
UID:ATEvent-2f38a603f2ab4b0e82e53c458e52e37b
LAST-MODIFIED:20140120T084956Z
SUMMARY:El síndic assisteix al Concert de la 20a Temporada de música i dansa d'Andorra la Vella. Kool and the Gang\, actua al Centre de Congressos d'Andorra la Vella.
DTSTART:20140118T203000Z
DTEND:20140118T223000Z
CLASS:PUBLIC
END:VEVENT
END:VCALENDAR
