BEGIN:VCALENDAR
PRODID:-//AT Content Types//AT Event//EN
VERSION:1.0
BEGIN:VEVENT
DTSTART:20240711T093000Z
DTEND:20240711T103000Z
DCREATED:20240621T112426Z
UID:ATEvent-f98693999e354ac1aad91ac09a44a6c8
SEQUENCE:0
LAST-MODIFIED:20240709T171348Z
SUMMARY:Comissió Legislativa de Justícia\, Interior i Afers Institucionals
LOCATION:Consell General (planta -3).
PRIORITY:3
TRANSP:0
END:VEVENT
END:VCALENDAR
