BEGIN:VCALENDAR
PRODID:-//AT Content Types//AT Event//EN
VERSION:2.0
METHOD:PUBLISH
BEGIN:VEVENT
DTSTAMP:20260420T080600Z
CREATED:20220912T114246Z
UID:ATEvent-e33d247ed90f4819b0109b96b276a568
LAST-MODIFIED:20220912T114300Z
SUMMARY:Comitè executiu per als afers de la UIP
DTSTART:20220914T100000Z
DTEND:20220914T100000Z
CLASS:PUBLIC
END:VEVENT
END:VCALENDAR
