BEGIN:VCALENDAR
PRODID:-//AT Content Types//AT Event//EN
VERSION:2.0
METHOD:PUBLISH
BEGIN:VEVENT
DTSTAMP:20260422T175551Z
CREATED:20160111T134550Z
UID:ATEvent-02609b8a7d5f4deaacf82868b2a37264
LAST-MODIFIED:20160111T134556Z
SUMMARY:Comitè Executiu del Grup Nacional del Consell General a la UIP
DTSTART:20160115T113000Z
DTEND:20160115T113000Z
LOCATION:Nova seu planta 2 sala de la Sindicatura
CLASS:PUBLIC
END:VEVENT
END:VCALENDAR
