BEGIN:VCALENDAR
PRODID:-//AT Content Types//AT Event//EN
VERSION:2.0
METHOD:PUBLISH
BEGIN:VEVENT
DTSTAMP:20260419T220904Z
CREATED:20260310T110141Z
UID:ATEvent-5c1c7e40657c4c03a13fdd8726d5ee2f
LAST-MODIFIED:20260310T110144Z
SUMMARY:Comitè Executiu de la Xarxa de Dones Parlamentàries
DTSTART:20260326T153000Z
DTEND:20260326T163000Z
LOCATION:Sala de Comissions - Planta -3
CLASS:PUBLIC
END:VEVENT
END:VCALENDAR
