BEGIN:VCALENDAR
PRODID:-//AT Content Types//AT Event//EN
VERSION:1.0
BEGIN:VEVENT
DTSTART:20260312T170000Z
DTEND:20260312T180000Z
DCREATED:20260310T110024Z
UID:ATEvent-913ecff1bac348c4a293a7fbba4e30bc
SEQUENCE:0
LAST-MODIFIED:20260310T110027Z
SUMMARY:Comitè Executiu de la Xarxa de Dones Parlamentàries
LOCATION:Sala de Comissions - Planta -3
PRIORITY:3
TRANSP:0
END:VEVENT
END:VCALENDAR
