BEGIN:VCALENDAR
PRODID:-//AT Content Types//AT Event//EN
VERSION:1.0
BEGIN:VEVENT
DTSTART:20200520T140000Z
DTEND:20200520T140000Z
DCREATED:20200515T115102Z
UID:ATEvent-6ba2dc137deb44c99fee7093fc81bfcc
SEQUENCE:0
LAST-MODIFIED:20200515T124725Z
SUMMARY:Comissió Legislativa de Política Exterior
LOCATION:Nova seu Planta -3 sala de compareixences públiques
PRIORITY:3
TRANSP:0
END:VEVENT
END:VCALENDAR
