BEGIN:VCALENDAR
PRODID:-//AT Content Types//AT Event//EN
VERSION:1.0
BEGIN:VEVENT
DTSTART:20240919T080000Z
DTEND:20240919T100000Z
DCREATED:20240827T082248Z
UID:ATEvent-8e541ceae5ab40dc8e1321a0f83eb0a7
SEQUENCE:0
LAST-MODIFIED:20240827T082332Z
SUMMARY:Comissions Legislatives d’Afers Socials i Igualtat\, i de Sanitat
LOCATION:Consell General (planta -3).
PRIORITY:3
TRANSP:0
END:VEVENT
END:VCALENDAR
