BEGIN:VCALENDAR
PRODID:-//AT Content Types//AT Event//EN
VERSION:1.0
BEGIN:VEVENT
DTSTART:20140312T080000Z
DTEND:20140312T080000Z
DCREATED:20140308T170638Z
UID:ATEvent-f7f5d020642e4abfbfeef3e1fa0b4514
SEQUENCE:0
LAST-MODIFIED:20140313T104808Z
SUMMARY:Comissions del Consell General dels Joves
LOCATION:Nova seu planta -3 sala A\, sala C i sala de compareixences
PRIORITY:3
TRANSP:0
END:VEVENT
END:VCALENDAR
