BEGIN:VCALENDAR
PRODID:-//AT Content Types//AT Event//EN
VERSION:2.0
METHOD:PUBLISH
BEGIN:VEVENT
DTSTAMP:20260423T085333Z
CREATED:20220404T142023Z
UID:ATEvent-34e7b85396b3412ab3a19db52fd434be
LAST-MODIFIED:20220428T071531Z
SUMMARY:Comissió Legislativa de Finances i Pressupost
DTSTART:20220428T073000Z
DTEND:20220428T073000Z
LOCATION:Nova seu Planta -3 sala de compareixences públiques
CLASS:PUBLIC
END:VEVENT
END:VCALENDAR
