BEGIN:VCALENDAR
PRODID:-//AT Content Types//AT Event//EN
VERSION:2.0
METHOD:PUBLISH
BEGIN:VEVENT
DTSTAMP:20260421T083312Z
CREATED:20220119T072957Z
UID:ATEvent-400fb462efb4410db40d9073ae587828
LAST-MODIFIED:20220119T151508Z
SUMMARY:Comissió Permanent
DTSTART:20220128T083000Z
DTEND:20220128T083000Z
LOCATION:Nova seu Planta 2 sala de Sindicatura
CLASS:PUBLIC
END:VEVENT
END:VCALENDAR
