BEGIN:VCALENDAR
PRODID:-//AT Content Types//AT Event//EN
VERSION:2.0
METHOD:PUBLISH
BEGIN:VEVENT
DTSTAMP:20260422T082358Z
CREATED:20200227T072144Z
UID:ATEvent-454991b64263423a9c577ced5891117a
LAST-MODIFIED:20200227T072148Z
SUMMARY:Comissió Permanent
DTSTART:20200302T084500Z
DTEND:20200302T084500Z
LOCATION:Nova seu Planta 2 sala de Sindicatura
CLASS:PUBLIC
END:VEVENT
END:VCALENDAR
