BEGIN:VCALENDAR
PRODID:-//AT Content Types//AT Event//EN
VERSION:2.0
METHOD:PUBLISH
BEGIN:VEVENT
DTSTAMP:20260419T144821Z
CREATED:20160104T105132Z
UID:ATEvent-e151dc59b9e7401ebf7d4567c7b453bb
LAST-MODIFIED:20160104T170355Z
SUMMARY:Comissió Permanent
DTSTART:20160104T163000Z
DTEND:20160104T163000Z
LOCATION:Nova seu planta 2 sala de Sindicatura
CLASS:PUBLIC
END:VEVENT
END:VCALENDAR
