BEGIN:VCALENDAR
PRODID:-//AT Content Types//AT Event//EN
VERSION:1.0
BEGIN:VEVENT
DTSTART:20150716T170000Z
DTEND:20150716T170000Z
DCREATED:20150714T120255Z
UID:ATEvent-6aca4cd1705b4001ad024f91d4de4594
SEQUENCE:0
LAST-MODIFIED:20150716T164744Z
SUMMARY:Comissió Permanent
LOCATION:Nova seu planta 2 sala de la Sindicatura
PRIORITY:3
TRANSP:0
END:VEVENT
END:VCALENDAR
