BEGIN:VCALENDAR
PRODID:-//AT Content Types//AT Event//EN
VERSION:1.0
BEGIN:VEVENT
DTSTART:20150707T073000Z
DTEND:20150707T073000Z
DCREATED:20150702T101711Z
UID:ATEvent-42a8508d922840e3870e7403a3c77eaa
SEQUENCE:0
LAST-MODIFIED:20150702T101719Z
SUMMARY:Comissió Permanent
LOCATION:Nova seu planta 2 sala de la Sindicatura
PRIORITY:3
TRANSP:0
END:VEVENT
END:VCALENDAR
