BEGIN:VCALENDAR
PRODID:-//AT Content Types//AT Event//EN
VERSION:1.0
BEGIN:VEVENT
DTSTART:20150629T130000Z
DTEND:20150629T130000Z
DCREATED:20150629T061821Z
UID:ATEvent-44ca8ef3df844e8396b54f93289ed03b
SEQUENCE:0
LAST-MODIFIED:20150629T082433Z
SUMMARY:Comissió Permanent
LOCATION:Nova seu planta 2 sala de la Sindicatura
PRIORITY:3
TRANSP:0
END:VEVENT
END:VCALENDAR
