BEGIN:VCALENDAR
PRODID:-//AT Content Types//AT Event//EN
VERSION:2.0
METHOD:PUBLISH
BEGIN:VEVENT
DTSTAMP:20260423T085735Z
CREATED:20220601T131216Z
UID:ATEvent-d492ceff143d44a2a9549f1d92d021f9
LAST-MODIFIED:20220630T091315Z
SUMMARY:Comissió Legislativa de Política Exterior
DTSTART:20220630T100000Z
DTEND:20220630T100000Z
LOCATION:Nova seu Planta -3 sala de compareixences públiques
CLASS:PUBLIC
END:VEVENT
END:VCALENDAR
