BEGIN:VCALENDAR
PRODID:-//AT Content Types//AT Event//EN
VERSION:1.0
BEGIN:VEVENT
DTSTART:20220526T130000Z
DTEND:20220526T130000Z
DCREATED:20220523T104318Z
UID:ATEvent-e95b8d5c0a1a4a3d8df63bf28192913f
SEQUENCE:0
LAST-MODIFIED:20220523T104321Z
SUMMARY:Comissió Legislativa Política Exterior
PRIORITY:3
TRANSP:0
END:VEVENT
END:VCALENDAR
