BEGIN:VCALENDAR
PRODID:-//AT Content Types//AT Event//EN
VERSION:2.0
METHOD:PUBLISH
BEGIN:VEVENT
DTSTAMP:20260423T170538Z
CREATED:20220513T071854Z
UID:ATEvent-9bcad3e946574e8a9e4c7c2331a22d5a
LAST-MODIFIED:20220513T071906Z
SUMMARY:Comissió Legislativa Política Exterior
DTSTART:20220519T100000Z
DTEND:20220519T100000Z
LOCATION:Nova seu Planta -3 sala AB
CLASS:PUBLIC
END:VEVENT
END:VCALENDAR
