BEGIN:VCALENDAR
PRODID:-//AT Content Types//AT Event//EN
VERSION:2.0
METHOD:PUBLISH
BEGIN:VEVENT
DTSTAMP:20260423T144640Z
CREATED:20170614T115959Z
UID:ATEvent-1f8f70f68bef4f3cbbf6ad88ccbac2c6
LAST-MODIFIED:20170616T124718Z
SUMMARY:Comissió Legislativa d'Interior
DTSTART:20170626T090000Z
DTEND:20170626T090000Z
LOCATION:Nova seu Planta -3 sala AB
CLASS:PUBLIC
END:VEVENT
END:VCALENDAR
