BEGIN:VCALENDAR
PRODID:-//AT Content Types//AT Event//EN
VERSION:2.0
METHOD:PUBLISH
BEGIN:VEVENT
DTSTAMP:20260426T024327Z
CREATED:20170331T114334Z
UID:ATEvent-3e5a9e8d52e847b2a998941b6af366cd
LAST-MODIFIED:20170331T114351Z
SUMMARY:Comissió Legislativa d'Interior
DTSTART:20170403T090000Z
DTEND:20170403T090000Z
LOCATION:Nova seu Planta -3 sala AB
CLASS:PUBLIC
END:VEVENT
END:VCALENDAR
