BEGIN:VCALENDAR
PRODID:-//AT Content Types//AT Event//EN
VERSION:2.0
METHOD:PUBLISH
BEGIN:VEVENT
DTSTAMP:20260420T075412Z
CREATED:20140424T101503Z
UID:ATEvent-839555d65dca43a887caa514710aeb71
LAST-MODIFIED:20140514T125634Z
SUMMARY:Comissió Legislativa d'Interior
DTSTART:20140514T073000Z
DTEND:20140514T073000Z
LOCATION:Nova seu planta -3 sala A
CLASS:PUBLIC
END:VEVENT
END:VCALENDAR
