BEGIN:VCALENDAR
PRODID:-//AT Content Types//AT Event//EN
VERSION:1.0
BEGIN:VEVENT
DTSTART:20180514T080000Z
DTEND:20180514T080000Z
DCREATED:20180507T110050Z
UID:ATEvent-b402c8eb0c22407fa31c2740bcf2675b
SEQUENCE:0
LAST-MODIFIED:20180507T110054Z
SUMMARY:Comissió Legislativa d'Interior
LOCATION:Nova seu Planta -3 sala AB
PRIORITY:3
TRANSP:0
END:VEVENT
END:VCALENDAR
